BEGIN:VCALENDAR
VERSION:2.0
PRODID:-//Auguszt Cukrászda - ECPv5.1.4//NONSGML v1.0//EN
CALSCALE:GREGORIAN
METHOD:PUBLISH
X-WR-CALNAME:Auguszt Cukrászda
X-ORIGINAL-URL:https://auguszt.hu
X-WR-CALDESC:Events for Auguszt Cukrászda
BEGIN:VTIMEZONE
TZID:UTC
BEGIN:STANDARD
TZOFFSETFROM:+0000
TZOFFSETTO:+0000
TZNAME:UTC
DTSTART:20200101T000000
END:STANDARD
END:VTIMEZONE
BEGIN:VEVENT
DTSTART;TZID=UTC:20201029T160000
DTEND;TZID=UTC:20201029T200000
DTSTAMP:20260420T043042
CREATED:20200906T114232Z
LAST-MODIFIED:20200906T114232Z
UID:3856-1603987200-1604001600@auguszt.hu
SUMMARY:Esterházy torta és Rákóczi túrós tanfolyam MEGTELT!
DESCRIPTION:\nAuguszt cukrászda\, Esterházy torta és Rákóczi túrós tanfolyam\n\n\nCukrász tanfolyam\, süti Sütő tanfolyam\, Kezdőknek is!\n\n\nNem baj\, ha még soha semmit nem sütöttél! \n\n\nGyere bátran! Profi segítséggel\, de magad fogod elkészíteni ezeket a fantasztikus süteményeket!\n\n\n\nEsterházy torta\, Auguszt cukrász tanfolyam\, torta sütés \nTorta készítés folyamata:  \n\nMegtanulhatod\, hogyan készülnek a diós Eszterházy torta lapok az Auguszt cukrászdában. \n\n\nEgyesével kikenjük a diós tészta lapokat\, majd aranybarnára sütjük! Főzünk hozzá vaníliakrémet\, majd betöltjük. Mindenki a saját tortáját készíti el\, amit haza is fog vinni.\n\n\nNem baj\, ha nem vagy cukrász\,  a tetejét is magad fogod készíteni! Ez lesz a legizgalmasabb része a süti sütő tanfolyamnak\n\n\nA másik süteményünk ez alakalommal a Rákóczi túrós lesz\, omlós linzer\, ízes túró töltelék\, házi baracklekvár\, habos hullámokkal a tetején\, csodálatos és fantasztikusan finom sütemény!\n\n\n\n\n\nA kurzusokat Auguszt-Arató Auguszta tartja:\n\n\n \n\n\n1. A felnőtt cukrász tanfolyamok 1 alkalmasak\, 4 óra időtartamúak.\n\n\n2. Minden alkalommal 2 féle süteményt készítünk. (pl. Dobos+Rákóczi túrós\, Eszterházy+Almás pite)\n\n\n3. Mindenki SAJÁT kezűleg elkészítheti a SAJÁT tortáját süteményét\, tehát tényleg megtanulja elkészíteni.\n\n\n3. Nemcsak profiknak! A kezdőktől a haladókig bárki jöhet\, de profi háziasszonyoknak\n\n\nis tudtunk már újat mutatni! 🙂\n\n\n3. A tanfolyamok kis létszámúak\, 7-8 fő\, ami személyreszabott tanítást garantál.\n\n\n4. Az elkészített süteményeket természetesen haza lehet vinni!\n\n\n5. Közben is kóstolunk\, elemzünk\, senki nem fog üres hassal hazamenni! 🙂\n\n\n6. A recepteket mindenki kézhez kapja és hazaviheti.\n\n\nés végül\, de nem utolsósorban ez\n\n\n7. Remek program és kellemes időtöltés!\n\n\nA cukrász tanfolyam ára: 22.900.-/fő/alkalom\n\n\nRészletes információ: www.auguszt.hu\n\n\nJelentkezni személyesen vagy a www.auguszt.hu/tanfolyam \n\n\noldalon lehet!\n\n
URL:https://auguszt.hu/tanfolyam/esterhazy-torta-es-rakoczi-turos-tanfolyam-megtelt/
LOCATION:Auguszt Pavilon\, Farkasrét\, XII. kerület\, Sasadi út 190.\, Budapest\, Magyarország
END:VEVENT
END:VCALENDAR